Workbook

Sheet Főösszesítő
A3: Költségvetés főösszesítő
A4: Megnevezés | C4: Anyagköltség | D4: Díjköltség
A5: 1 Építmény közvetlen költségei | C5: ='Munkanem összesítő'!C8 -> 0 | D5: ='Munkanem összesítő'!D8 -> 0
A6: 1.2 Akadályoztatási költség | B6: 0 | C6: 0 | D6: =ROUND(D5*B6,0) -> 0
A7: 1.3 Építés közvetlen költségei | C7: =ROUND(C6+C5,0) -> 0 | D7: =ROUND(D6+D5,0) -> 0
A8: 2.1 Árkockázati fedezet vetítési alap | C8: =ROUND(C7,0) -> 0 | D8: 0
A9: 2.2 Árkockázati fedezet | B9: 0 | C9: =ROUND(C8*B9,0) -> 0 | D9: 0
A10: 2.3 Anyagigazgatási költség vetítési alap | C10: =ROUND(C9+C8,0) -> 0 | D10: 0
A11: 2.4 Anyagigazgatási költség | B11: 0 | C11: =ROUND(C10*B11,0) -> 0 | D11: 0
A12: 2.5 Fedezet vetítési alap | C12: 0 | D12: =ROUND(D7,0) -> 0
A13: 2.6 Fedezet | B13: 0 | C13: 0 | D13: =ROUND(D12*B13,0) -> 0
A14: 3.1 Tartalékkeret vetítési alap | C14: =ROUND(C11+C10+D12+D13,0) -> 0
A15: 3.2 Tartalékkeret | B15: 0 | C15: =ROUND(C14*B15,0) -> 0
A16: 3.5 Költségtérítések (19-es munkanem)
A17: 4.1 ÁFA vetítési alap | C17: =ROUND(C16+C14+C15+D16,0) -> 0
A18: 4.2 ÁFA | B18: 0.27 | C18: =ROUND(C17*B18,0) -> 0
A19: 5 A munka ára (HUF) | C19: =ROUND(C18+C17,0) -> 0

Sheet Munkanem összesítő
A1: Ssz. | B1: Megnevezés | C1: Anyagköltség | D1: Díjköltség
A2: 33 | B2: Falazás és egyéb kőműves munkák | C2: ='33.'!I4 -> 0 | D2: ='33.'!J4 -> 0
A3: 36 | B3: Vakolás és rabicolás | C3: ='36.'!I3 -> 0 | D3: ='36.'!J3 -> 0
A4: 47 | B4: Felületképzés | C4: ='47.'!I3 -> 0 | D4: ='47.'!J3 -> 0
A5: 75 | B5: Megújuló energiahasznosító berendezések | C5: ='75.'!I12 -> 0 | D5: ='75.'!J12 -> 0
A6: 81 | B6: Épületgépészeti csővezeték szerelése | C6: ='81.'!I5 -> 0 | D6: ='81.'!J5 -> 0
A7: 82 | B7: Épületgépészeti szerelvények és berendezések szerelése | C7: ='82.'!I23 -> 0 | D7: ='82.'!J23 -> 0
B8: Összesen (HUF) | C8: =ROUND(SUM(C2:C7),0) -> 0 | D8: =ROUND(SUM(D2:D7),0) -> 0

Sheet 33.
A1: Ssz. | B1: Tételszám | C1: Tétel szövege | D1: Menny. | E1: Egység | F1: Normaidő | G1: Anyag egységár | H1: Díj egységre | I1: Anyag összesen | J1: Díj összesen | K1: Megjegyzés | L1: ÉNGY kód
A2: 1 | B2: 33-063-1.1.3 | C2: Faláttörés 30x30 cm méretig, téglafalban, többlet minden további 1/2 tégla vastagságért | D2: 2 | E2: db | F2: 0.54 | I2: =ROUND(G2*D2,0) -> 0 | J2: =ROUND(H2*D2,0) -> 0 | K2: [ÖN] | L2: 330630094715
A3: 2 | B3: 33-063-1.1.2 | C3: Faláttörés 30x30 cm méretig, téglafalban, 12,01-25 cm falvastagság között | D3: 2 | E3: db | F3: 0.76 | I3: =ROUND(G3*D3,0) -> 0 | J3: =ROUND(H3*D3,0) -> 0 | K3: [ÖN] | L3: 330630094703
C4: Munkanem összesen (HUF) | I4: =ROUND(SUM(I2:I3),0) -> 0 | J4: =ROUND(SUM(J2:J3),0) -> 0

Sheet 36.
A1: Ssz. | B1: Tételszám | C1: Tétel szövege | D1: Menny. | E1: Egység | F1: Normaidő | G1: Anyag egységár | H1: Díj egységre | I1: Anyag összesen | J1: Díj összesen | K1: Megjegyzés | L1: ÉNGY kód
A2: 1 | B2: 36-090-1.1.1-0550030 | C2: Vakolatjavítás oldalfalon, tégla-, beton-, kőfelületen vagy építőlemezen, a meglazult, sérült vakolat előzetes leverésével, hiánypótlás 5% alatt, Hvb4-mc, beltéri, vakoló, cementes mészhabarcs mészpéppel Fűtőtestek mögötti falfelület szükség szerinti javítása | D2: 13 | E2: db | F2: 1.69 | I2: =ROUND(G2*D2,0) -> 0 | J2: =ROUND(H2*D2,0) -> 0
C3: Munkanem összesen (HUF) | I3: =ROUND(SUM(I2:I2),0) -> 0 | J3: =ROUND(SUM(J2:J2),0) -> 0

Sheet 47.
A1: Ssz. | B1: Tételszám | C1: Tétel szövege | D1: Menny. | E1: Egység | F1: Normaidő | G1: Anyag egységár | H1: Díj egységre | I1: Anyag összesen | J1: Díj összesen | K1: Megjegyzés | L1: ÉNGY kód
A2: 1 | B2: 47-011-91.1.1-0156501 | C2: Műanyag-diszperziós festékrendszer felhordása új vagy régi lekapart, lemosott, vakolaton, tagolatlan sima felületen, Multifund matt, mosásálló beltéri festék, fehér, Multidecor díszítő festékkel Fűtőtestek mögötti falfelület | D2: 13 | E2: db | F2: 0.83 | I2: =ROUND(G2*D2,0) -> 0 | J2: =ROUND(H2*D2,0) -> 0
C3: Munkanem összesen (HUF) | I3: =ROUND(SUM(I2:I2),0) -> 0 | J3: =ROUND(SUM(J2:J2),0) -> 0

Sheet 75.
A1: Ssz. | B1: Tételszám | C1: Tétel szövege | D1: Menny. | E1: Egység | F1: Normaidő | G1: Anyag egységár | H1: Díj egységre | I1: Anyag összesen | J1: Díj összesen | K1: Megjegyzés | L1: ÉNGY kód
A2: 1 | B2: 75-111-1.3.2.3-0275215 | C2: Levegő-víz hőszivattyúk osztott rendszerű (kültéri + beltéri), 7℃/35℃ hőmérséklet tartománynál, fűtésre-hűtésre és HMV-ellátásra, 10-20 kW teljesítmény között. | D2: 1 | E2: db | F2: 4.4 | I2: =ROUND(G2*D2,0) -> 0 | J2: =ROUND(H2*D2,0) -> 0
C3: 1 db Belaria 16 SRM hőszivattyú (V1)
C4: 1 db A4P kiegészítő panel
C5: 1 db Rezgéscsillapító klt. Belaria®S/SR/SH (4 db)
C6: 1 db Védőrács kültéri egységhez
C7: 1 db Védőfedél kültéri egységhez (Belaria SRM, compact SRM 11-16) V1
C8: 2 db Mágneses iszapleválasztó
C9: 1 db AQA Therm HES vízkezelő állomás, sótalanvizes és lágyvizes utántöltéshez (810423)
C10: 1 db HRC-L lágyvizes patron (812524)
C12: Munkanem összesen (HUF) | I12: =ROUND(SUM(I2:I2),0) -> 0 | J12: =ROUND(SUM(J2:J2),0) -> 0

Sheet 81.
A1: Ssz. | B1: Tételszám | C1: Tétel szövege | D1: Menny. | E1: Egység | F1: Normaidő | G1: Anyag egységár | H1: Díj egységre | I1: Anyag összesen | J1: Díj összesen | K1: Megjegyzés | L1: ÉNGY kód
A2: 1 | B2: 81-000-1.1.1 | C2: Csővezetékek bontása, horganyzott vagy fekete acélcsövek tartószerkezetről, vagy padlócsatornából lángvágással, deponálással, DN 50 méretig | D2: 40 | E2: m | F2: 0.25 | I2: =ROUND(G2*D2,0) -> 0 | J2: =ROUND(H2*D2,0) -> 0 | K2: [ÖN] | L2: 810000834682
A3: 2 | B3: 81-004-1.5.1.1.1.1.1-0337390 | C3: Fűtési vezeték, Horganyzott szénacélcső szerelése, préselt csőkötésekkel, cső elhelyezése csőidomok nélkül, szakaszos nyomáspróbával, szabadon, horonyba vagy padlócsatornába, DN 12 - DN 50, DN 12, GEBERIT Mapress szénacél kívül horganyzott cső, d15x1,2, Cikkszám: 29252 | D3: 20 | E3: m | F3: 0.18 | I3: =ROUND(G3*D3,0) -> 0 | J3: =ROUND(H3*D3,0) -> 0 | K3: [ÖN] | L3: 810041701391
A4: 3 | B4: 81-004-1.5.1.1.1.1.4-0337393 | C4: Fűtési vezeték, Horganyzott szénacélcső szerelése, préselt csőkötésekkel, cső elhelyezése csőidomok nélkül, szakaszos nyomáspróbával, szabadon, horonyba vagy padlócsatornába, DN 12 - DN 50, DN 25, GEBERIT Mapress szénacél kívül horganyzott cső, d28x1,5, Cikkszám: 29255 | D4: 20 | E4: m | F4: 0.28 | I4: =ROUND(G4*D4,0) -> 0 | J4: =ROUND(H4*D4,0) -> 0 | K4: [ÖN] | L4: 810041701425
C5: Munkanem összesen (HUF) | I5: =ROUND(SUM(I2:I4),0) -> 0 | J5: =ROUND(SUM(J2:J4),0) -> 0

Sheet 82.
A1: Ssz. | B1: Tételszám | C1: Tétel szövege | D1: Menny. | E1: Egység | F1: Normaidő | G1: Anyag egységár | H1: Díj egységre | I1: Anyag összesen | J1: Díj összesen | K1: Megjegyzés | L1: ÉNGY kód
A2: 1 | B2: 82-000-1.2.1 | C2: Szerelvények leszerelése, menetes szerelvények, DN 50 méretig | D2: 20 | E2: db | F2: 0.44 | I2: =ROUND(G2*D2,0) -> 0 | J2: =ROUND(H2*D2,0) -> 0 | K2: [ÖN] | L2: 820000922943
A3: 2 | B3: 82-016-12.1 | C3: Kazánház, illetve hőközpont beszabályozása, beüzemelése 23.260 W teljesítményig | D3: 1 | E3: db | F3: 25.5 | I3: =ROUND(G3*D3,0) -> 0 | J3: =ROUND(H3*D3,0) -> 0 | K3: [ÖN] | L3: 820161025510
A4: 3 | B4: 82-016-13.1 | C4: Próbafűtés, radiátorok beszabályozása 23.260 W teljesítményig | D4: 1 | E4: db | F4: 15.4 | I4: =ROUND(G4*D4,0) -> 0 | J4: =ROUND(H4*D4,0) -> 0 | K4: [ÖN] | L4: 820161025563
A5: 4 | B5: 82-000-4.11.1.1 | C5: Gáz- és fűtésszerelési berendezési tárgyak leszerelése, fűtésszerelési berendezési tárgyak acéllemez radiátor, 10 tagig Fűtőtest leszerelése, és visszaszerelése | D5: 4 | E5: db | F5: 4 | I5: =ROUND(G5*D5,0) -> 0 | J5: =ROUND(H5*D5,0) -> 0
A6: 5 | B6: 82-000-4.11.1.3 | C6: Gáz- és fűtésszerelési berendezési tárgyak leszerelése, fűtésszerelési berendezési tárgyak acéllemez radiátor, 10 tag felett Fűtőtest leszerelése, és visszaszerelése | D6: 9 | E6: db | F6: 6 | I6: =ROUND(G6*D6,0) -> 0 | J6: =ROUND(H6*D6,0) -> 0
A7: 6 | B7: 82-001-7.3.8-0117038 | C7: Kétoldalon menetes vagy roppantógyűrűs szerelvény elhelyezése, külső vagy belső menettel, illetve hollandival csatlakoztatva DN 20 biztonsági szerelvény, GIACOMINI biztonsági szelep, 2,5 bar lefúvási nyomásra, R140, 3/4" | D7: 1 | E7: db | F7: 0.56 | I7: =ROUND(G7*D7,0) -> 0 | J7: =ROUND(H7*D7,0) -> 0 | K7: [ÖN] | L7: 820012136550
A8: 7 | B8: 82-001-16.2.5-0113212 | C8: Fűtőtest szerelvény elhelyezése külső vagy belső menettel, illetve hollandival csatlakoztatva DN 15 termosztatikus szelep, termosztatikus szelep szett, Danfoss sarok kivitelű termosztatikus szeleptest, előbeálítással, 013G0013, RA-N 1/2" | D8: 16 | E8: db | F8: 0.51 | I8: =ROUND(G8*D8,0) -> 0 | J8: =ROUND(H8*D8,0) -> 0 | K8: [ÖN] | L8: 820010943716
A9: 8 | B9: 82-001-16.2.3-0113282 | C9: Fűtőtest szerelvény elhelyezése külső vagy belső menettel, illetve hollandival csatlakoztatva DN 15 visszatérő elzárószelep, Danfoss egyenes kivitelű visszatérő csavarzat, beszabályozási, elzárási, ürítés funkcióval, 003L0144, RLV 1/2" | D9: 16 | E9: db | F9: 0.51 | I9: =ROUND(G9*D9,0) -> 0 | J9: =ROUND(H9*D9,0) -> 0 | K9: [ÖN] | L9: 820010943263
A10: 9 | B10: 82-001-17.1.1-0113257 | C10: Termosztatikus szelepfej felszerelése radiátorszelepre, KLAPP csatlakozóval rögzítve, Danfoss termosztatikus fej beépített érzékelővel, rongálás ellen védett, 013G2920, RA 2920, 5-26℃ | D10: 12 | E10: db | F10: 0.02 | I10: =ROUND(G10*D10,0) -> 0 | J10: =ROUND(H10*D10,0) -> 0 | K10: [ÖN] | L10: 820010945503
A11: 10 | B11: 82-005-16.2-0120121 | C11: Manométer elhelyezése, lemezházas, Manométer lemezházas, M 20 x 1,5 menettel 1,6 % pontossággal PM 1012 típus, átmérő 100 mm Méréshatár: 0-0.6;0-1.0;0-1.6;0-2.5 bar | D11: 4 | E11: db | F11: 0.12 | I11: =ROUND(G11*D11,0) -> 0 | J11: =ROUND(H11*D11,0) -> 0 | K11: [ÖN] | L11: 820050959796
A12: 11 | B12: 82-005-17.1.1-0212206 | C12: Hőmérő elhelyezése, egyenes hőmérő, kicsi, Védőszerelvényes ipari hőmérő, MSZ 11210/2-72 kis egyenes hőmérő 0 C-tól 160 C 63 mm benyúlással | D12: 4 | E12: db | F12: 1.08 | I12: =ROUND(G12*D12,0) -> 0 | J12: =ROUND(H12*D12,0) -> 0 | K12: [ÖN] | L12: 820050959864
A13: 12 | B13: 82-002-5.1.1.2-0324303 | C13: Impulzusadó térfogatáram-mérő (hőmennyiségmérő) elhelyezése, hőérzékelők beépítésével, hitelesítéssel, menetes kötéssel, egysugaras, DN 20, SIEMENS UH50-2.5, ultrahangos hőmennyiségmérő, fűtés-, hűtés-, vagy fűtés/hűtés mérésére, Qn=2,5m3/h, 1" menetes, Csz.:UH50-2.5 | D13: 1 | E13: db | F13: 0.85 | I13: =ROUND(G13*D13,0) -> 0 | J13: =ROUND(H13*D13,0) -> 0 | K13: [ÖN] | L13: 820022575913
A14: 13 | B14: 82-012-3.2.1.4-0425757 | C14: Acéllemez kompakt lapradiátor elhelyezése, széthordással, tartókkal, bekötéssel, 2 soros, 1600 mm-ig, 600 mm, D-ÉG (Dunaferr) LUX-UNI univerzális 6 csatl.lapradiátor DK (22 típus), 2-soros, 2 konvektorlemezes, burkolattal, 600x 700 mm, fűtőtelj. (90/70/20°C): 1646 W | D14: 1 | E14: db | F14: 1.97 | I14: =ROUND(G14*D14,0) -> 0 | J14: =ROUND(H14*D14,0) -> 0 | K14: [ÖN] | L14: 820120998111
A15: 14 | B15: 82-012-3.2.1.4-0425760 | C15: Acéllemez kompakt lapradiátor elhelyezése, széthordással, tartókkal, bekötéssel, 2 soros, 1600 mm-ig, 600 mm, D-ÉG (Dunaferr) LUX-UNI univerzális 6 csatl.lapradiátor DK (22 típus), 2-soros, 2 konvektorlemezes, burkolattal, 600x1000 mm, fűtőtelj. (90/70/20°C): 2351 W | D15: 3 | E15: db | F15: 1.97 | I15: =ROUND(G15*D15,0) -> 0 | J15: =ROUND(H15*D15,0) -> 0 | K15: [ÖN] | L15: 820120998140
A16: 15 | B16: 82-012-3.2.1.4-0425762 | C16: Acéllemez kompakt lapradiátor elhelyezése, széthordással, tartókkal, bekötéssel, 2 soros, 1600 mm-ig, 600 mm, D-ÉG (Dunaferr) LUX-UNI univerzális 6 csatl.lapradiátor DK (22 típus), 2-soros, 2 konvektorlemezes, burkolattal, 600x1200 mm, fűtőtelj. (90/70/20°C): 2821 W | D16: 1 | E16: db | F16: 1.97 | I16: =ROUND(G16*D16,0) -> 0 | J16: =ROUND(H16*D16,0) -> 0 | K16: [ÖN] | L16: 820120998164
A17: 16 | B17: 82-001-7.3.2-0115144 | C17: Kétoldalon menetes vagy roppantógyűrűs szerelvény elhelyezése, külső vagy belső menettel, illetve hollandival csatlakoztatva DN 20 gömbcsap, víz- és gázfőcsap, OVENTROP Optibal golyoscsap, műa.fogantyúval, PN16, DN20, 3/4", kb., (-10...+100)°C, men.-hollandis toldattal, nikkelezett sr szelepházzal, 1075706 | D17: 4 | E17: db | F17: 0.56 | I17: =ROUND(G17*D17,0) -> 0 | J17: =ROUND(H17*D17,0) -> 0 | K17: [ÖN] | L17: 820012364506
A18: 17 | B18: 82-001-7.3.3-0115763 | C18: Kétoldalon menetes vagy roppantógyűrűs szerelvény elhelyezése, külső vagy belső menettel, illetve hollandival csatlakoztatva DN 20 szennyfogószűrő, gázszűrő, iszap- és levegőleválasztó, OVENTROP szennyfogó szűrő, PN25, DN20, 3/4" bm., kvs=7.80, szitasűrűség 600 υm, (-10...+150)°C, vörösöntvény szerelvényházzal, 1120006 | D18: 1 | E18: db | F18: 0.56 | I18: =ROUND(G18*D18,0) -> 0 | J18: =ROUND(H18*D18,0) -> 0 | K18: [ÖN] | L18: 820010935025
... A22: 21 | B22: 82-012-3.2.1.4-0425761 | C22: Acéllemez kompakt lapradiátor elhelyezése, széthordással, tartókkal, bekötéssel, 2 soros, 1600 mm-ig, 600 mm, D-ÉG (Dunaferr) LUX-UNI univerzális 6 csatl.lapradiátor DK (22 típus), 2-soros, 2 konvektorlemezes, burkolattal, 600x1100 mm, fűtőtelj. (90/70/20°C): 2586 W | D22: 1 | E22: db | F22: 1.97 | I22: =ROUND(G22*D22,0) -> 0 | J22: =ROUND(H22*D22,0) -> 0 | K22: [ÖN] | L22: 820120998152
C23: Munkanem összesen (HUF) | I23: =ROUND(SUM(I2:I22),0) -> 0 | J23: =ROUND(SUM(J2:J22),0) -> 0
