Workbook

Sheet Főösszesítő
A3: Költségvetés főösszesítő
A4: Megnevezés | C4: Anyagköltség | D4: Díjköltség
A5: 1 Építmény közvetlen költségei | C5: ='Munkanem összesítő'!C7 -> 0 | D5: ='Munkanem összesítő'!D7 -> 0
A6: 1.2 Akadályoztatási költség | B6: 0 | C6: 0 | D6: =ROUND(D5*B6,0) -> 0
A7: 1.3 Építés közvetlen költségei | C7: =ROUND(C6+C5,0) -> 0 | D7: =ROUND(D6+D5,0) -> 0
A8: 2.1 Árkockázati fedezet vetítési alap | C8: =ROUND(C7,0) -> 0 | D8: 0
A9: 2.2 Árkockázati fedezet | B9: 0 | C9: =ROUND(C8*B9,0) -> 0 | D9: 0
A10: 2.3 Anyagigazgatási költség vetítési alap | C10: =ROUND(C9+C8,0) -> 0 | D10: 0
A11: 2.4 Anyagigazgatási költség | B11: 0 | C11: =ROUND(C10*B11,0) -> 0 | D11: 0
A12: 2.5 Fedezet vetítési alap | C12: 0 | D12: =ROUND(D7,0) -> 0
A13: 2.6 Fedezet | B13: 0 | C13: 0 | D13: =ROUND(D12*B13,0) -> 0
A14: 3.1 Tartalékkeret vetítési alap | C14: =ROUND(C11+C10+D12+D13,0) -> 0
A15: 3.2 Tartalékkeret | B15: 0 | C15: =ROUND(C14*B15,0) -> 0
A16: 3.5 Költségtérítések (19-es munkanem)
A17: 4.1 ÁFA vetítési alap | C17: =ROUND(C16+C14+C15+D16,0) -> 0
A18: 4.2 ÁFA | B18: 0.27 | C18: =ROUND(C17*B18,0) -> 0
A19: 5 A munka ára (HUF) | C19: =ROUND(C18+C17,0) -> 0

Sheet Munkanem összesítő
A1: Ssz. | B1: Megnevezés | C1: Anyagköltség | D1: Díjköltség
A2: 33 | B2: Falazás és egyéb kőműves munkák | C2: ='33.'!I4 -> 0 | D2: ='33.'!J4 -> 0
A3: 44 | B3: 44 Asztalosszerkezetek elhelyezése | C3: ='44.'!H8 -> 0 | D3: ='44.'!I8 -> 0
A4: 71 | B4: 71 Elektromos energia ellátás, világítás | C4: ='71'!H6 -> 0 | D4: ='71'!I6 -> 0
A5: 81 | B5: Épületgépészeti csővezeték szerelése | C5: ='81.'!I9 -> 0 | D5: ='81.'!J9 -> 0
A6: 82 | B6: Épületgépészeti szerelvények és berendezések szerelése | C6: ='82.'!I20 -> 0 | D6: ='82.'!J20 -> 0
B7: Összesen (HUF) | C7: =ROUND(SUM(C2:C6),0) -> 0 | D7: =ROUND(SUM(D2:D6),0) -> 0

Sheet 33.
A1: Ssz. | B1: Tételszám | C1: Tétel szövege | D1: Menny. | E1: Egység | F1: Normaidő | G1: Anyag egységár | H1: Díj egységre | I1: Anyag összesen | J1: Díj összesen | K1: Megjegyzés | L1: ÉNGY kód
A2: 1 | B2: 33-063-1.1.3 | C2: Faláttörés 30x30 cm méretig, téglafalban, többlet minden további 1/2 tégla vastagságért | D2: 1 | E2: db | F2: 0.54 | G2: 0 | H2: 0 | I2: =ROUND(G2*D2,0) -> 0 | J2: =ROUND(H2*D2,0) -> 0 | K2: [ÖN] | L2: 330630094715
A3: 2 | B3: 33-063-1.1.2 | C3: Faláttörés 30x30 cm méretig, téglafalban, 12,01-25 cm falvastagság között | D3: 1 | E3: db | F3: 0.76 | G3: 0 | H3: 0 | I3: =ROUND(G3*D3,0) -> 0 | J3: =ROUND(H3*D3,0) -> 0 | K3: [ÖN] | L3: 330630094703
C4: Munkanem összesen (HUF) | I4: =ROUND(SUM(I2:I3),0) -> 0 | J4: =ROUND(SUM(J2:J3),0) -> 0

Sheet 44.
C4: 44 Asztalosszerkezetek elhelyezése
A5: Ssz. | B5: Tételszám | C5: Tétel szövege | D5: Menny. | E5: Egység | F5: Anyag egységár | G5: Díj egységre | H5: Anyag összesen | I5: Díj összesen
A6: 1 | B6: 44-027-2.1-0461129 | C6: Táblák felszerelése, -funkciójelző táblák nagyított betűvel, és braille írással | D6: 5 | E6: db | F6: 0 | G6: 0 | H6: =D6*F6 -> 0 | I6: =D6*G6 -> 0
A7: 2 | B7: 44-027-2.2-0461161 | C7: Táblák felszerelése, -kültéri tájékoztató és irányjelző tábla bejáratnál; nagyított betűvel, és braille írással | D7: 2 | E7: db | F7: 0 | G7: 0 | H7: =D7*F7 -> 0 | I7: =D7*G7 -> 0
C8: Munkanem összesen: | H8: =SUM(H6:H7) -> 0 | I8: =SUM(I6:I7) -> 0

Sheet 71
C2: 71 Elektromos energia ellátás, világítás
A3: Ssz. | B3: Tételszám | C3: Tétel szövege | D3: Menny. | E3: Egység | F3: Anyag egységár | G3: Díj egységre | H3: Anyag összesen | I3: Díj összesen
A4: 1 | B4: 71-005-1.1.1.1-0411121 | C4: A WC melletti falfelületen, a WC tengelyétől kb. 40 cm-es távolságra 2 db vészjelző gomb elhelyezése szükséges 30 illetve 90 cm magasságban, jól látható és könnyen elérhető módon. | D4: 2 | E4: db | F4: 0 | G4: 0 | H4: =D4*F4 -> 0 | I4: =D4*G4 -> 0
C6: Munkanem összesen: | H6: =SUM(H4:H5) -> 0 | I6: =SUM(I4:I5) -> 0

Sheet 81.
A1: Ssz. | B1: Tételszám | C1: Tétel szövege | D1: Menny. | E1: Egység | F1: Normaidő | G1: Anyag egységár | H1: Díj egységre | I1: Anyag összesen | J1: Díj összesen | K1: Megjegyzés | L1: ÉNGY kód
A2: 1 | B2: 81-002-3.2.1.2.6-0130975 | C2: PVC lefolyóvezeték szerelése, tokos, gumigyűrűs kötésekkel, cső elhelyezése csőidomokkal, szakaszos tömörségi próbával, horonyba vagy padlócsatornába, DN 100, PIPELIFE PVC-U tokos lefolyócső 110x2,2x500 mm, KAEM110/0.5M | D2: 5 | E2: m | F2: 0.77 | G2: 0 | H2: 0 | I2: =ROUND(G2*D2,0) -> 0 | J2: =ROUND(H2*D2,0) -> 0 | K2: [ÖN] | L2: 810023214172
A3: 2 | B3: 81-002-3.2.1.2.3-0130983 | C3: PVC lefolyóvezeték szerelése, tokos, gumigyűrűs kötésekkel, cső elhelyezése csőidomokkal, szakaszos tömörségi próbával, horonyba vagy padlócsatornába, DN 50, PIPELIFE PVC-U tokos lefolyócső 50x1,8x1000 mm, KAEM050/1M | D3: 5 | E3: m | F3: 0.47 | G3: 0 | H3: 0 | I3: =ROUND(G3*D3,0) -> 0 | J3: =ROUND(H3*D3,0) -> 0 | K3: [ÖN] | L3: 810022115221
A4: 3 | B4: 81-002-3.2.3.2.3-0231013 | C4: PVC lefolyóvezeték szerelése, tokos, gumigyűrűs kötésekkel, csőidomok elhelyezése, kétcsatlakozású csőidom DN 50, PIPELIFE PVC-U lefolyó ívidom 50 mm 45°, KAB050X45P | D4: 1 | E4: db | F4: 0.28 | G4: 0 | H4: 0 | I4: =ROUND(G4*D4,0) -> 0 | J4: =ROUND(H4*D4,0) -> 0 | K4: [ÖN] | L4: 810020872531
A5: 4 | B5: 81-002-3.2.3.2.3-0231023 | C5: PVC lefolyóvezeték szerelése, tokos, gumigyűrűs kötésekkel, csőidomok elhelyezése, kétcsatlakozású csőidom DN 50, PIPELIFE PVC-U lefolyó ívidom 50 mm 87°, KAB050X87P | D5: 2 | E5: db | F5: 0.28 | G5: 0 | H5: 0 | I5: =ROUND(G5*D5,0) -> 0 | J5: =ROUND(H5*D5,0) -> 0 | K5: [ÖN] | L5: 810020872543
A6: 5 | B6: 81-002-3.2.3.2.6-0231026 | C6: PVC lefolyóvezeték szerelése, tokos, gumigyűrűs kötésekkel, csőidomok elhelyezése, kétcsatlakozású csőidom DN 100, PIPELIFE PVC-U lefolyó ívidom 100 mm 87°, KAB110X87P | D6: 1 | E6: db | F6: 0.43 | G6: 0 | H6: 0 | I6: =ROUND(G6*D6,0) -> 0 | J6: =ROUND(H6*D6,0) -> 0 | K6: [ÖN] | L6: 810020872676
A7: 6 | B7: 81-002-3.2.3.3.6-0231053 | C7: PVC lefolyóvezeték szerelése, tokos, gumigyűrűs kötésekkel, csőidomok elhelyezése, háromcsatlakozású csőidom DN 100, PIPELIFE PVC-U lefolyó ágidom 110 mm/50 mm x 45°, KAEA110/050X45P | D7: 1 | E7: db | F7: 0.67 | G7: 0 | H7: 0 | I7: =ROUND(G7*D7,0) -> 0 | J7: =ROUND(H7*D7,0) -> 0 | K7: [ÖN] | L7: 810020872945
A8: 7 | B8: 81-001-1.3.2.1.1.1.2-0370002 | C8: Ivóvíz vezeték, Ötrétegű cső szerelése, PE-Xc/Al/PE-Xc, PE-Xc/Al/PE-Xb, PE-Xb/Al/PE-Xb vagy PE-Xb/Al/PE anyagból, préselt csőkötésekkel, cső elhelyezése csőidomok nélkül, szakaszos nyomáspróbával, falhoronyba vagy padlószerkezetbe szerelve (horonyvésés külön tételben), DN 15, PIPELIFE RADOPRESS PEX-AL-PEX cső 18x2 mm/200m, RP18x2-200 | D8: 30 | E8: m | F8: 0.11 | G8: 0 | H8: 0 | I8: =ROUND(G8*D8,0) -> 0 | J8: =ROUND(H8*D8,0) -> 0 | K8: [ÖN] | L8: 810013193246
C9: Munkanem összesen (HUF) | I9: =ROUND(SUM(I2:I8),0) -> 0 | J9: =ROUND(SUM(J2:J8),0) -> 0

Sheet 82.
A1: Ssz. | B1: Tételszám | C1: Tétel szövege | D1: Menny. | E1: Egység | F1: Normaidő | G1: Anyag egységár | H1: Díj egységre | I1: Anyag összesen | J1: Díj összesen | K1: Megjegyzés | L1: ÉNGY kód
A2: 1 | B2: 82-000-3.2 | C2: Vízellátás berendezési tárgyak leszerelése, falikutak, mosdók | D2: 1 | E2: db | F2: 0.76 | G2: 0 | H2: 0 | I2: =ROUND(G2*D2,0) -> 0 | J2: =ROUND(H2*D2,0) -> 0 | K2: [ÖN] | L2: 820000923095
A3: 2 | B3: 82-000-3.5 | C3: Vízellátás berendezési tárgyak leszerelése, vizelde tartozékokkal | D3: 1 | E3: db | F3: 1.47 | G3: 0 | H3: 0 | I3: =ROUND(G3*D3,0) -> 0 | J3: =ROUND(H3*D3,0) -> 0 | K3: [ÖN] | L3: 820000923122
A4: 3 | B4: 82-009-5.1-0112781 | C4: Mosdó vagy mosómedence berendezés elhelyezése és bekötése, kifolyószelep, bűzelzáró és sarokszelep nélkül, falra szerelhető porcelán kivitelben (komplett), BÁZIS porcelán mosdó 60 cm, 3 csaplyukkal, fúrt, 4191 60 01, fehér | D4: 1 | E4: db | F4: 1.58 | G4: 0 | H4: 0 | I4: =ROUND(G4*D4,0) -> 0 | J4: =ROUND(H4*D4,0) -> 0 | K4: [ÖN] | L4: 820090969150
A5: 4 | B5: 82-009-19.5.1-0318198 | C5: Csaptelepek és szerelvényeinek felszerelése, mosogató csaptelepek, fali mosogató csaptelep, MOFÉM Treff kétfogantyús falraszerelhető mosogatócsaptelep, kr. kód: 142-0010-30 | D5: 1 | E5: db | F5: 0.93 | G5: 0 | H5: 0 | I5: =ROUND(G5*D5,0) -> 0 | J5: =ROUND(H5*D5,0) -> 0 | K5: [ÖN] | L5: 820090981076
A6: 5 | B6: 82-009-31.2-0110915 | C6: Vizes berendezési tárgyak bűzelzáróinak felszerelése, mosdóhoz, bidéhez, MOFÉM búraszifon leeresztőszeleppel, krómozott, Kód: 165-0027-00 | D6: 1 | E6: db | F6: 0.75 | G6: 0 | H6: 0 | I6: =ROUND(G6*D6,0) -> 0 | J6: =ROUND(H6*D6,0) -> 0 | K6: [ÖN] | L6: 820090987401
A7: 6 | B7: 82-009-5.1-0120202 | C7: Mosdó vagy mosómedence berendezés elhelyezése és bekötése, -speciális, elöl homorú, esetleg karral dönthető mosdó, leforrázódás elleni védelemmel ellátott, karos vagy infrás | D7: 1 | E7: db | G7: 0 | H7: 0 | I7: =D7*G7 -> 0 | J7: =D7*H7 -> 0
C8: csapteleppel, térdszabad kialakítású szifonnal, használati szint magassága: 85-90 cm, alatta min.70 cm hely, tartószerkezet terhelése 4 kN | G8: 0 | H8: 0
A9: 7 | B9: 82-009-11.1.3.2-0120213 | C9: WC csésze elhelyezése és bekötése, porcelánból, fali WC csésze, 40x70-75 cm konzolos WC csésze, ülőke magasság: 46-48 cm 4 KN terhelésre méretezett tartószerkezettel | D9: 1 | E9: db | G9: 0 | H9: 0 | I9: =D9*G9 -> 0 | J9: =D9*H9 -> 0
A10: 8 | B10: 82-009-32-0120235 | C10: Mozgássérült vízellátási berendezések kiegészítő szerelvényeinek elhelyezése WC papírtartó a kapaszkodóhoz, késztermék, pl. NORMBAU NYLON LINE család 0448 410 | D10: 1 | E10: db | G10: 0 | H10: 0 | I10: =D10*G10 -> 0 | J10: =D10*H10 -> 0
A11: 9 | B11: 82-009-32-0181169 | C11: Mozgássérült vízellátási berendezések kiegészítő szerelvényeinek elhelyezése Fix kapaszkodó függőleges kapaszkodószárral 800 mm, átmérő: 4 cm, szerelési tengelymagasság: 75 cm | D11: 1 | E11: db | G11: 0 | H11: 0 | I11: =D11*G11 -> 0 | J11: =D11*H11 -> 0
C12: tartószerkezet terhelése 2 kN | G12: 0 | H12: 0
A13: 10 | B13: 82-009-32-0181182 | C13: Mozgássérült vízellátási berendezések kiegészítő szerelvényeinek elhelyezése Felhajtható kapaszkodó, 800 mm, átmérő: 4 cm, szerelési tengelymagasság: 75 cm tartószerkezet terhelése | D13: 1 | E13: db | G13: 0 | H13: 0 | I13: =D13*G13 -> 0 | J13: =D13*H13 -> 0
C14: 2 kN | G14: 0 | H14: 0
A15: 11 | B15: 82-016-1.1.9-0371121 | C15: Piperetárgyak elhelyezése WC-kefe tartóval pl. NORMBAU NYLON LINE család 0925 400 cikkszámú eleme | D15: 1 | E15: db | G15: 0 | H15: 0 | I15: =D15*G15 -> 0 | J15: =D15*H15 -> 0
A16: 12 | B16: 82-016-1.2.1-0220001 | C16: Piperetárgyak elhelyezése; dönthető tükör elhelyezése, kb 50x100 cm | D16: 1 | E16: db | G16: 0 | H16: 0 | I16: =D16*G16 -> 0 | J16: =D16*H16 -> 0
A17: 13 | B17: 82-016-2.1-0221001 | C17: Szappanadagolók elhelyezése falra szerelt kivitelben pl.: TORK S-1 fém, fehér színű folyékonyszappan adagoló, Rendelési szám: B&K 252040 | D17: 1 | E17: db | G17: 0 | H17: 0 | I17: =D17*G17 -> 0 | J17: =D17*H17 -> 0
A18: 14 | B18: 82-016-3.1-0221015 | C18: Papíradagolók elhelyezése falra szerelt kivitelben Kéztörlőpapír adagoló, hajtogatott papírhoz, pl. TORK H2 rendszerű | D18: 1 | E18: db | G18: 0 | H18: 0 | I18: =D18*G18 -> 0 | J18: =D18*H18 -> 0
A19: 15 | B19: 82-016-4.1-0371102 | C19: Hulladékgyűjtő elhelyezése; falra szerelt kivitelben nyitott tetejű vagy billenő tetejű hulladékgyűjtő - NORMBAU 0924 480 cikkszámú eleme - (pedálos nem lehet!) elhelyezése | D19: 1 | E19: db | G19: 0 | H19: 0 | I19: =D19*G19 -> 0 | J19: =D19*H19 -> 0
C20: Munkanem összesen (HUF) | I20: =ROUND(SUM(I2:I19),0) -> 0 | J20: =ROUND(SUM(J2:J19),0) -> 0
